BEGIN:VCALENDAR
VERSION:2.0
PRODID:-//Moondog Growlers - ECPv6.15.20//NONSGML v1.0//EN
CALSCALE:GREGORIAN
METHOD:PUBLISH
X-ORIGINAL-URL:https://www.moondoggrowlers.com
X-WR-CALDESC:Events for Moondog Growlers
REFRESH-INTERVAL;VALUE=DURATION:PT1H
X-Robots-Tag:noindex
X-PUBLISHED-TTL:PT1H
BEGIN:VTIMEZONE
TZID:America/Chicago
BEGIN:DAYLIGHT
TZOFFSETFROM:-0600
TZOFFSETTO:-0500
TZNAME:CDT
DTSTART:20240310T080000
END:DAYLIGHT
BEGIN:STANDARD
TZOFFSETFROM:-0500
TZOFFSETTO:-0600
TZNAME:CST
DTSTART:20241103T070000
END:STANDARD
BEGIN:DAYLIGHT
TZOFFSETFROM:-0600
TZOFFSETTO:-0500
TZNAME:CDT
DTSTART:20250309T080000
END:DAYLIGHT
BEGIN:STANDARD
TZOFFSETFROM:-0500
TZOFFSETTO:-0600
TZNAME:CST
DTSTART:20251102T070000
END:STANDARD
BEGIN:DAYLIGHT
TZOFFSETFROM:-0600
TZOFFSETTO:-0500
TZNAME:CDT
DTSTART:20260308T080000
END:DAYLIGHT
BEGIN:STANDARD
TZOFFSETFROM:-0500
TZOFFSETTO:-0600
TZNAME:CST
DTSTART:20261101T070000
END:STANDARD
END:VTIMEZONE
BEGIN:VEVENT
DTSTART;TZID=America/Chicago:20250920T170000
DTEND;TZID=America/Chicago:20250920T210000
DTSTAMP:20260424T135416
CREATED:20240902T212301Z
LAST-MODIFIED:20240913T170200Z
UID:10000593-1758387600-1758402000@www.moondoggrowlers.com
SUMMARY:MDG Oktobierfest
DESCRIPTION:Join us for Oktobierfest at MDG. We are celebrating the occasion in style with Live accordion music. We will also have an outdoor Biergarten set up for the occasion. German style potluck for the occasion. Below is a signup sheet if you plan on bringing your favorite Bavarian dish. Classic German style beers as well as American beers. Come be Dutch for a day. \n  \nClick here to signup for potluck
URL:https://www.moondoggrowlers.com/event/mdg-oktobierfest-2/
LOCATION:Moondog Growlers\, 5064 Nandina Ln\, Dunwoody\, 30338\, United States
ATTACH;FMTTYPE=image/png:https://www.moondoggrowlers.com/wp-content/uploads/2024/09/MDG-Oktobierfest-e1726246898566.png
END:VEVENT
END:VCALENDAR