BEGIN:VCALENDAR
VERSION:2.0
PRODID:-//Moondog Growlers - ECPv6.15.20//NONSGML v1.0//EN
CALSCALE:GREGORIAN
METHOD:PUBLISH
X-WR-CALNAME:Moondog Growlers
X-ORIGINAL-URL:https://www.moondoggrowlers.com
X-WR-CALDESC:Events for Moondog Growlers
REFRESH-INTERVAL;VALUE=DURATION:PT1H
X-Robots-Tag:noindex
X-PUBLISHED-TTL:PT1H
BEGIN:VTIMEZONE
TZID:America/Chicago
BEGIN:DAYLIGHT
TZOFFSETFROM:-0600
TZOFFSETTO:-0500
TZNAME:CDT
DTSTART:20250309T080000
END:DAYLIGHT
BEGIN:STANDARD
TZOFFSETFROM:-0500
TZOFFSETTO:-0600
TZNAME:CST
DTSTART:20251102T070000
END:STANDARD
BEGIN:DAYLIGHT
TZOFFSETFROM:-0600
TZOFFSETTO:-0500
TZNAME:CDT
DTSTART:20260308T080000
END:DAYLIGHT
BEGIN:STANDARD
TZOFFSETFROM:-0500
TZOFFSETTO:-0600
TZNAME:CST
DTSTART:20261101T070000
END:STANDARD
BEGIN:DAYLIGHT
TZOFFSETFROM:-0600
TZOFFSETTO:-0500
TZNAME:CDT
DTSTART:20270314T080000
END:DAYLIGHT
BEGIN:STANDARD
TZOFFSETFROM:-0500
TZOFFSETTO:-0600
TZNAME:CST
DTSTART:20271107T070000
END:STANDARD
END:VTIMEZONE
BEGIN:VEVENT
DTSTART;TZID=America/Chicago:20260425T113000
DTEND;TZID=America/Chicago:20260425T230000
DTSTAMP:20260421T034421
CREATED:20260420T234342Z
LAST-MODIFIED:20260420T234342Z
UID:10000641-1777116600-1777158000@www.moondoggrowlers.com
SUMMARY:Trey Day
DESCRIPTION:Come to our “meat” and greet and hang out with Trey.  You still voted for him for best bartender\, and he won runner up even though he worked less than two months in 2025.  In honor of that win\, he’s going to hang out with the community he loves and those who love him from mid afternoon to ????   Tommy will be smokin’ some yummy BBQ that will be ready around 5ish.
URL:https://www.moondoggrowlers.com/event/trey-day/
LOCATION:Moondog Growlers\, 5064 Nandina Ln\, Dunwoody\, 30338\, United States
ATTACH;FMTTYPE=image/jpeg:https://www.moondoggrowlers.com/wp-content/uploads/2026/04/trey-day.jpg
END:VEVENT
END:VCALENDAR