BEGIN:VCALENDAR
VERSION:2.0
PRODID:-//Moondog Growlers - ECPv6.15.20//NONSGML v1.0//EN
CALSCALE:GREGORIAN
METHOD:PUBLISH
X-WR-CALNAME:Moondog Growlers
X-ORIGINAL-URL:https://www.moondoggrowlers.com
X-WR-CALDESC:Events for Moondog Growlers
REFRESH-INTERVAL;VALUE=DURATION:PT1H
X-Robots-Tag:noindex
X-PUBLISHED-TTL:PT1H
BEGIN:VTIMEZONE
TZID:America/Chicago
BEGIN:DAYLIGHT
TZOFFSETFROM:-0600
TZOFFSETTO:-0500
TZNAME:CDT
DTSTART:20240310T080000
END:DAYLIGHT
BEGIN:STANDARD
TZOFFSETFROM:-0500
TZOFFSETTO:-0600
TZNAME:CST
DTSTART:20241103T070000
END:STANDARD
BEGIN:DAYLIGHT
TZOFFSETFROM:-0600
TZOFFSETTO:-0500
TZNAME:CDT
DTSTART:20250309T080000
END:DAYLIGHT
BEGIN:STANDARD
TZOFFSETFROM:-0500
TZOFFSETTO:-0600
TZNAME:CST
DTSTART:20251102T070000
END:STANDARD
BEGIN:DAYLIGHT
TZOFFSETFROM:-0600
TZOFFSETTO:-0500
TZNAME:CDT
DTSTART:20260308T080000
END:DAYLIGHT
BEGIN:STANDARD
TZOFFSETFROM:-0500
TZOFFSETTO:-0600
TZNAME:CST
DTSTART:20261101T070000
END:STANDARD
END:VTIMEZONE
BEGIN:VEVENT
DTSTART;TZID=America/Chicago:20250125T170000
DTEND;TZID=America/Chicago:20250125T170000
DTSTAMP:20260422T054053
CREATED:20240816T165407Z
LAST-MODIFIED:20250103T195838Z
UID:10000584-1737824400-1737824400@www.moondoggrowlers.com
SUMMARY:MDG Annual Chili Cookoff
DESCRIPTION:It’s that time of year again. The Annual MDG Chili Cookoff is upon us. Break out that ancient secret family recipe and go for the gold. Email Trey@moondoggrowlers.com for info on entry into the contest. \nAll chili will have to be made off site and brought here\, we have some outlets for crockpots if needed. We will have a prize for first place\, we will be doing crowd’s favorite and judges’ pick. Event will start around 5pm and winners will be announced around 6:30pm.
URL:https://www.moondoggrowlers.com/event/mdg-annual-chili-cookoff/
LOCATION:Moondog Growlers\, 5064 Nandina Ln\, Dunwoody\, 30338\, United States
ATTACH;FMTTYPE=image/jpeg:https://www.moondoggrowlers.com/wp-content/uploads/2023/05/ImagePlaceholder.jpg
END:VEVENT
END:VCALENDAR